BEGIN:VCALENDAR
VERSION:2.0
PRODID:-//wp-events-plugin.com//7.2.3.1//EN
TZID:Europe/Berlin
X-WR-TIMEZONE:Europe/Berlin
BEGIN:VEVENT
UID:4@gau-nu.de
DTSTART;TZID=Europe/Berlin:20260220T000000
DTEND;TZID=Europe/Berlin:20260222T000000
DTSTAMP:20260108T195725Z
URL:https://gau-nu.de/events/waffen-sachkunde-kurs-gem-%c2%a7-7-waffg/
SUMMARY:Waffen-Sachkunde-Kurs gem. § 7 WaffG
DESCRIPTION:Vom&nbsp\;Fr.\, 20. – So.\, 22. Februar 2026&nbsp\;findet wie
 der ein dreitägiger Kurs zur Erlangnung der Waffen-Sachkunde gem. § 7 Wa
 ffengesetz als Voraussetzung für eine waffenrechtliche Erlaubnis (Waffenb
 esitzkarte) statt.\n\nInformationen zum Kurs unter&nbsp\;Sachkunde Neu-Ulm
 .\n\nDort ist auch die Anmeldung zum Kurs möglich.
CATEGORIES:Burlafingen, SV,Fortbildung,Kurs/Seminar,Waffen-Sachkunde
LOCATION:Burlafingen\, Schützenverein\, Thalfinger Str. 135\, Neu-Ulm/Burl
 afingen\, Bayern\, 89233\, Schwaben\, Deutschland
X-APPLE-STRUCTURED-LOCATION;VALUE=URI;X-ADDRESS=Thalfinger Str. 135\, Neu-U
 lm/Burlafingen\, Bayern\, 89233\, Schwaben\, Deutschland;X-APPLE-RADIUS=10
 0;X-TITLE=Burlafingen\, Schützenverein:geo:0,0
END:VEVENT
BEGIN:VTIMEZONE
TZID:Europe/Berlin
X-LIC-LOCATION:Europe/Berlin
BEGIN:STANDARD
DTSTART:20251026T020000
TZOFFSETFROM:+0200
TZOFFSETTO:+0100
TZNAME:CET
END:STANDARD
END:VTIMEZONE
END:VCALENDAR