BEGIN:VCALENDAR
VERSION:2.0
PRODID:-//wp-events-plugin.com//7.2.3.1//EN
TZID:Europe/Berlin
X-WR-TIMEZONE:Europe/Berlin
BEGIN:VEVENT
UID:5@gau-nu.de
DTSTART;TZID=Europe/Berlin:20260307T080000
DTEND;TZID=Europe/Berlin:20260307T170000
DTSTAMP:20260212T135504Z
URL:https://gau-nu.de/events/vereins-uebungsleiter-kurs-1-tag/
SUMMARY:Vereins-Übungsleiter-Kurs – 1. Tag
DESCRIPTION:Neben dem erweiterten polizeilichen Führungszeugnis\, welches 
 die rechtliche Zusammenarbeit mit Jugendlichen im Verein erlaubt\, wird mi
 t dem VÜL Lehrgang auch das fachliche Können im Schießsport bescheinigt
 \, um die Obhut über die Jugendlichen übernehmen zu dürfen. Es werden d
 ie Bereiche Jugendschutzgesetz und Waffenrecht näher erläutert. Dazu kom
 men noch die praktischen Teile\, wie Technikmodelle und Trainingsmethoden 
 mit Jugendlichen.\nEbenfalls ist der VÜL Lehrgang die Voraussetzung um di
 e Jugendleiter-Lizenz (ÜL-J) oder C-Trainer Lizenz machen zu können.\nDe
 r diesjährige Lehrgang findet am 07. und 14. März 2026\, jeweils von 8 b
 is ca. 17 Uhr im Schützenverein Senden-Ay (Hauptstraße 127\, 89250 Sende
 n) statt. (An beiden Tagen besteht Anwesenheitspflicht).\n\nAnmeldungen un
 ter&nbsp\;Anmeldung VÜL-Kurs\n\nDas Mindestalter der Teilnehmer liegt bei
  18 Jahren und mindestens 18 Monaten Mitgliedschaft im BSSB.\nKursgebühr 
 (am Kurstag vor Ort zu begleichen) inkl. aller Unterlagen\, VÜL-Ausweis u
 nd Anstecknadel beträgt 50\,-€ (ohne Verpflegung).\n\nVÜL-Verlängerer
 \nHierzu findet am Samstag\, den 09. Mai 2026 von 13 bis 16 Uhr im Schütz
 enverein Straß e.V.\; Hoffeldweg 4 (Turnhalle)\; 89278 Nersingen-Straß e
 in Kurs zur Verlängerung der Lizenz statt. Eine Verlängerung kann nur du
 rchgeführt werden\, wenn die Lizenz noch nicht länge wie 4 Jahre abgelau
 fen ist. Kursgebühr: 10\,- € (am Kurstag vor Ort zu begleichen)
CATEGORIES:Kurs/Seminar,Senden/Ay, SV Diana,Vereinsübungsleiter
LOCATION:Senden/Ay\, SV Diana\, Hauptstr. 127 (hinter Turnhalle)\, Senden/A
 y\, 89250\, Deutschland
X-APPLE-STRUCTURED-LOCATION;VALUE=URI;X-ADDRESS=Hauptstr. 127 (hinter Turnh
 alle)\, Senden/Ay\, 89250\, Deutschland;X-APPLE-RADIUS=100;X-TITLE=Senden/
 Ay\, SV Diana:geo:0,0
END:VEVENT
BEGIN:VTIMEZONE
TZID:Europe/Berlin
X-LIC-LOCATION:Europe/Berlin
BEGIN:STANDARD
DTSTART:20251026T020000
TZOFFSETFROM:+0200
TZOFFSETTO:+0100
TZNAME:CET
END:STANDARD
END:VTIMEZONE
END:VCALENDAR