BEGIN:VCALENDAR
VERSION:2.0
PRODID:-//wp-events-plugin.com//7.2.3.1//EN
TZID:Europe/Berlin
X-WR-TIMEZONE:Europe/Berlin
BEGIN:VEVENT
UID:3@gau-nu.de
DTSTART;TZID=Europe/Berlin:20260219T190000
DTEND;TZID=Europe/Berlin:20260219T210000
DTSTAMP:20260108T195543Z
URL:https://gau-nu.de/events/sitzung-gau-ausschuss/
SUMMARY:Sitzung Gau-Ausschuss
DESCRIPTION:Die Mitglieder des Gauausschusses und Schützenmeisteramtes tre
 ffen sich zur Sitzung in Roth-Berg
CATEGORIES:Gau,Roth-Berg, SV,Sitzung Gauausschuss
LOCATION:Roth-Berg\, SV\, Waldstraße 5\, Pfaffenhofen an der Roth / Roth\,
  89284\, Deutschland
X-APPLE-STRUCTURED-LOCATION;VALUE=URI;X-ADDRESS=Waldstraße 5\, Pfaffenhofe
 n an der Roth / Roth\, 89284\, Deutschland;X-APPLE-RADIUS=100;X-TITLE=Roth
 -Berg\, SV:geo:0,0
END:VEVENT
BEGIN:VTIMEZONE
TZID:Europe/Berlin
X-LIC-LOCATION:Europe/Berlin
BEGIN:STANDARD
DTSTART:20251026T020000
TZOFFSETFROM:+0200
TZOFFSETTO:+0100
TZNAME:CET
END:STANDARD
END:VTIMEZONE
END:VCALENDAR