BEGIN:VCALENDAR
VERSION:2.0
PRODID:-//wp-events-plugin.com//7.2.3.1//EN
TZID:Europe/Berlin
X-WR-TIMEZONE:Europe/Berlin
BEGIN:VEVENT
UID:1@gau-nu.de
DTSTART;TZID=Europe/Berlin:20250410T190000
DTEND;TZID=Europe/Berlin:20250410T210000
DTSTAMP:20250401T112402Z
URL:https://gau-nu.de/events/sitzung-des-gauausschuss/
SUMMARY:Sitzung des Gauausschuss
DESCRIPTION:
CATEGORIES:Sitzung Gauausschuss
LOCATION:Unterelchingen\, SGes\, Meerholzweg 1\, Unterelchingen\, 89275\, D
 eutschland
X-APPLE-STRUCTURED-LOCATION;VALUE=URI;X-ADDRESS=Meerholzweg 1\, Unterelchin
 gen\, 89275\, Deutschland;X-APPLE-RADIUS=100;X-TITLE=Unterelchingen\, SGes
 :geo:0,0
END:VEVENT
BEGIN:VTIMEZONE
TZID:Europe/Berlin
X-LIC-LOCATION:Europe/Berlin
BEGIN:DAYLIGHT
DTSTART:20250330T030000
TZOFFSETFROM:+0100
TZOFFSETTO:+0200
TZNAME:CEST
END:DAYLIGHT
END:VTIMEZONE
END:VCALENDAR