BEGIN:VCALENDAR
VERSION:2.0
PRODID:-//wp-events-plugin.com//7.2.3.1//EN
TZID:Europe/Berlin
X-WR-TIMEZONE:Europe/Berlin
BEGIN:VEVENT
UID:28@gau-nu.de
DTSTART;TZID=Europe/Berlin;VALUE=DATE:20260613
DTEND;TZID=Europe/Berlin;VALUE=DATE:20260614
DTSTAMP:20260223T063849Z
URL:https://gau-nu.de/events/8-suedwetdeutsches-boellertreffen/
SUMMARY:8. Südwetdeutsches Böllertreffen
DESCRIPTION:13:30 h Schußmeister Besprechung. 8 Schuß werden geschossen\n
 Bei Interesse gerne bei Walter oder Sepp melden
CATEGORIES:Veranstaltungen
LOCATION:Vereinsgelände SV Nußloch\, Walldorfer Straße 105\, Nußloch\, 
 69226\, Deutschland
X-APPLE-STRUCTURED-LOCATION;VALUE=URI;X-ADDRESS=Walldorfer Straße 105\, Nu
 ßloch\, 69226\, Deutschland;X-APPLE-RADIUS=100;X-TITLE=Vereinsgelände SV
  Nußloch:geo:0,0
END:VEVENT
BEGIN:VTIMEZONE
TZID:Europe/Berlin
X-LIC-LOCATION:Europe/Berlin
BEGIN:DAYLIGHT
DTSTART:20260329T030000
TZOFFSETFROM:+0100
TZOFFSETTO:+0200
TZNAME:CEST
END:DAYLIGHT
END:VTIMEZONE
END:VCALENDAR